BEGIN:VCALENDAR
CALSCALE:GREGORIAN
X-WR-TIMEZONE;VALUE=TEXT:GMT
PRODID:PEAK Corporation - piCal -
X-WR-CALNAME;VALUE=TEXT:開発教育入門講座 特別編
VERSION:2.0
METHOD:PUBLISH
BEGIN:VTIMEZONE
TZID:GMT
BEGIN:STANDARD
DTSTART:19390101T000000
TZOFFSETFROM:+0000
TZOFFSETTO:+0000
TZNAME:GMT
END:STANDARD
END:VTIMEZONE
BEGIN:VEVENT
DTSTART:20170523T000000Z
DTEND:20170523T080000Z
LOCATION:
TRANSP:OPAQUE
SEQUENCE:0
UID:pical060-a389bed393b75be02b21fbeaa2f551e9
DTSTAMP:20170427T040514Z
CATEGORIES:
DESCRIPTION:ワークショップとふり返りを通して「開発教育」をわかりやすくご紹介する講座です。ワークショップを体験後、参加者の皆さんとふり返りをしながら、「開発教育」ってなに？何を目指しているの？日本では、世界では、どんな活動が行われているの？といった事柄もお話します。\n\n開発教育の知識や経験はまったくなくてもOKです。 学生、NGOスタッフ・ボランティア、学校教員、開発関係者など、様々な方が参加しています。開発教育を知りたい方、実践したい方、アクティブラーニングに関心のある方、DEARの活動に参加してみたい方‥、まずはお気軽に入門講座におこしください！最近は高校生も参加してくださり、色々な方が一緒に学ぶ講座となっています。\n\n今回は、教材『コーヒーカップの向こう側』を使ってワークショップを行う特別編です。\n※入門講座はDEARの会員・ボランティアからなるタスクチームが運営しています。\n\n●申込方法\n以下のページ申込みフォームよりお申し込みください。\<a href="nhttp://www.dear.or.jp/getinvolved/nyumon.html\nもしくは、下記までメール、ファックス、お電話でお申込みください。その際、お名前、連絡先（メール、電話番号など）をご明記のうえ、「○月の入門講座参加希望」とお伝えください。\n※定員が少数につき、キャンセルされる場合は必ず事前ご連絡をお願いします。" target="_self">nhttp://www.dear.or.jp/getinvolved/nyumon.html\nもしくは、下記までメール、ファックス、お電話でお申込みください。その際、お名前、連絡先（メール、電話番号など）をご明記のうえ、「○月の入門講座参加希望」とお伝えください。\n※定員が少数につき、キャンセルされる場合は必ず事前ご連絡をお願いします。</a>
SUMMARY:開発教育入門講座 特別編
PRIORITY:0
CLASS:PUBLIC
END:VEVENT
END:VCALENDAR
