BEGIN:VCALENDAR
CALSCALE:GREGORIAN
X-WR-TIMEZONE;VALUE=TEXT:GMT
PRODID:PEAK Corporation - piCal -
X-WR-CALNAME;VALUE=TEXT:（タイトルなし）
VERSION:2.0
METHOD:PUBLISH
BEGIN:VTIMEZONE
TZID:GMT
BEGIN:STANDARD
DTSTART:19390101T000000
TZOFFSETFROM:+0000
TZOFFSETTO:+0000
TZNAME:GMT
END:STANDARD
END:VTIMEZONE
BEGIN:VEVENT
DTSTART:20260124T040000Z
DTEND:20260125T030000Z
LOCATION:
TRANSP:OPAQUE
SEQUENCE:0
UID:pical060-ead7d654dba9ac6d623d903a46db0674
DTSTAMP:20251108T174224Z
CATEGORIES:
DESCRIPTION:第二十一回「外来魚情報交換会」\n\nこんにちは、いつもお世話になっております。琵琶湖を戻す会です。\n\n第二十一回「外来魚情報交換会」のご案内です。\n\<a href="nhttp://biwako.eco.coocan.jp/exchange/2026/exchange26a.html\n\n開催日:2026年1月24日" target="_self">nhttp://biwako.eco.coocan.jp/exchange/2026/exchange26a.html\n\n開催日:2026年1月24日</a>(土)・25日(日)\n受付:(24日)12:00?\n     (25日)9:00?\n開催時間:(24日)13:00?17:00\n         (25日)9:30?12:00\n※両日とも終了時間は変更する場合があります。\n懇親会:(24日)18:00?(JR草津駅周辺)\n\n会場:キラリエ草津(草津市立市民総合交流センター)6階(大会議室)\n滋賀県草津市大路町2-1-35\n※JR琵琶湖線「草津駅」東口から徒歩約5分\n周辺地図はこちら\<a href="nhttp://biwako.eco.coocan.jp/map/kusatsu/kusatsu2.gif\n\nテーマ:外来魚を中心に、水辺の外来生物に関する様々な情報の交換と相互交流\n\n目的:ブルーギルやブラックバス等の外来魚をはじめとする水辺の外来生物防除に関する様々な情報を持ち寄って発表し、お互いの情報を交換することによって外来生物防除に対する意識と知識を高め、お互いの連携を深めることを目的とする。\n\n内容:外来魚の情報であれば駆除方法や生態などジャンルを問わない。発表者・参加者も滋賀県下にこだわらず広く参加を募る。特に発表者に関しては、一般市民をはじめ、漁業者・行政・研究機関・学者・学生・釣り人等々から広く参加を募り、外来魚の現状、生態、駆除方法から釣り方のコツまで幅広い視点からの情報収集を行う。話し手・聞き手を同じ目の高さにし、発表ごとに質疑応答の時間を設けることで情報交換とともに参加者相互の交流も目指す。\n\nプログラム:24日" target="_self">nhttp://biwako.eco.coocan.jp/map/kusatsu/kusatsu2.gif\n\nテーマ:外来魚を中心に、水辺の外来生物に関する様々な情報の交換と相互交流\n\n目的:ブルーギルやブラックバス等の外来魚をはじめとする水辺の外来生物防除に関する様々な情報を持ち寄って発表し、お互いの情報を交換することによって外来生物防除に対する意識と知識を高め、お互いの連携を深めることを目的とする。\n\n内容:外来魚の情報であれば駆除方法や生態などジャンルを問わない。発表者・参加者も滋賀県下にこだわらず広く参加を募る。特に発表者に関しては、一般市民をはじめ、漁業者・行政・研究機関・学者・学生・釣り人等々から広く参加を募り、外来魚の現状、生態、駆除方法から釣り方のコツまで幅広い視点からの情報収集を行う。話し手・聞き手を同じ目の高さにし、発表ごとに質疑応答の時間を設けることで情報交換とともに参加者相互の交流も目指す。\n\nプログラム:24日</a>(土)\n12:00?受付\n12:55?13:00 開会\n13:00?17:00 情報提供\n\n25日(日)\n9:00?受付\n9:30?12:00 情報提供\n12:00閉会\n※終了時間やプログラムは予告無く変更する場合があります。\n\n主催:琵琶湖を戻す会\n共催:全国ブラックバス防除市民ネットワーク\n後援(予定):滋賀県・草津市\n\n定員:先着200名\n参加費:無料(資料代*:1,000円*希望者のみ)\n参加資格:なし\n参加申込み: ※事前申し込みが必要です。\n詳しくはこちら\<a href="nhttp://biwako.eco.coocan.jp/exchange/2026/exchange26a.html#bosyu\n\n問合せ先:琵琶湖を戻す会\nhttp://biwako.eco.coocan.jp/mail/mail.html\nもしくは\n090-8527-3752" target="_self">nhttp://biwako.eco.coocan.jp/exchange/2026/exchange26a.html#bosyu\n\n問合せ先:琵琶湖を戻す会\nhttp://biwako.eco.coocan.jp/mail/mail.html\nもしくは\n090-8527-3752</a>(琵琶湖を戻す会事務局)\n\n\n第二十一回「外来魚情報交換会」募集要項\n\n下記の項目を全て記入の上、メールにてお申し込み下さい。\n参加者名:\nふりがな:\n所属:※あればで結構です(名札に印字されます)\n連絡先:(住所)\n(電話)\n(メール)\n情報交換会:両日とも参加・24日のみ参加・25日のみ参加\n発表:発表する・発表しない\n発表する場合のテーマ「」\n※発表テーマは“水辺の外来生物”に関するものに限ります。(※国内移入種も含む)\n\n◆発表者募集は先着順で受け付け、発表枠数に達し次第締め切らせていただきます。\n※締め切った場合は当HPでお知らせします。\n◆発表時間は一人15分程度を予定しています。\n◆同時に複数名申し込まれる場合は全員のお名前と代表者の連絡先をお書き下さい。\n\n申し込み先:琵琶湖を戻す会事務局\<a href="nhttp://biwako.eco.coocan.jp/mail/mail.html\n★受付完了のメールが届かない場合は他の方法でお知らせ下さい。\n\n\nご参加いただければ、皆さんの外来魚対策活動に必ずお役に立ちます！！\n\n\n第二十一回「外来魚情報交換会」案内＆参加申込用紙\nＰＤＦファイル版　exchange2026a.pdfSIZE:327KB\nhttp://biwako.eco.coocan.jp/exchange/2026/photo/exchange2026a.pdf\nＷｏｒｄファイル版　exchange2026a.docxSIZE:23KB\n※申込用紙のみ\nhttp://biwako.eco.coocan.jp/exchange/2026/photo/exchange2026a.docx\nダウンロードして自由にご利用下さい。\nただし、内容は予告無く変更になる場合があります。\n\n情報交換会に対するお問い合わせはこちらにお願いいたします。\nhttp://biwako.eco.coocan.jp/mail/mail.html\n\n琵琶湖を戻す会は外来生物法の主務官庁" target="_self">nhttp://biwako.eco.coocan.jp/mail/mail.html\n★受付完了のメールが届かない場合は他の方法でお知らせ下さい。\n\n\nご参加いただければ、皆さんの外来魚対策活動に必ずお役に立ちます！！\n\n\n第二十一回「外来魚情報交換会」案内＆参加申込用紙\nＰＤＦファイル版　exchange2026a.pdfSIZE:327KB\nhttp://biwako.eco.coocan.jp/exchange/2026/photo/exchange2026a.pdf\nＷｏｒｄファイル版　exchange2026a.docxSIZE:23KB\n※申込用紙のみ\nhttp://biwako.eco.coocan.jp/exchange/2026/photo/exchange2026a.docx\nダウンロードして自由にご利用下さい。\nただし、内容は予告無く変更になる場合があります。\n\n情報交換会に対するお問い合わせはこちらにお願いいたします。\nhttp://biwako.eco.coocan.jp/mail/mail.html\n\n琵琶湖を戻す会は外来生物法の主務官庁</a>(環境省/農林水産省)から特定外来生物防除認定を受けています。\<a href="nhttp://biwako.eco.coocan.jp/prevention/prevention.html\n" target="_self">nhttp://biwako.eco.coocan.jp/prevention/prevention.html\n</a>
SUMMARY:（タイトルなし）
PRIORITY:0
CLASS:PUBLIC
END:VEVENT
END:VCALENDAR
