BEGIN:VCALENDAR
CALSCALE:GREGORIAN
X-WR-TIMEZONE;VALUE=TEXT:GMT
PRODID:PEAK Corporation - piCal -
X-WR-CALNAME;VALUE=TEXT:JICA国際協力JOBセミナー「安全管理の仕事に挑戦してみませんか？―経験者が語る多様なキャリアパス―」（オンライン開催）
VERSION:2.0
METHOD:PUBLISH
BEGIN:VTIMEZONE
TZID:GMT
BEGIN:STANDARD
DTSTART:19390101T000000
TZOFFSETFROM:+0000
TZOFFSETTO:+0000
TZNAME:GMT
END:STANDARD
END:VTIMEZONE
BEGIN:VEVENT
DTSTART:20230310T093000Z
DTEND:20230310T113000Z
LOCATION:
TRANSP:OPAQUE
SEQUENCE:3
UID:pical060-334f101e479b47cad656c9f22d25d161
DTSTAMP:20230302T024920Z
CATEGORIES:
DESCRIPTION:━━━━━━━━━━━━━━━━━━━━━━━━━━━━━━━━━━━\nJICAでは国際協力分野でキャリアを築くことを目指す学生や社会人を対象に、JOBセミナーを開催しています。\n2022年度第3回のテーマは「安全管理の仕事に挑戦してみませんか？―経験者が語る多様なキャリアパス―」です。\n\n本JOBセミナーでは、国際協力における安全管理の仕事の概要をお伝えするとともに、安全管理業務経験者3名のキャリアパスをご紹介します。登壇者と直接話せる個別質問会もご用意しています。ぜひこの機会に、開発事業と関係者の安全を確保する「安全管理の仕事」への理解を深めていただき、国際協力のキャリアの一つとして、地域に関する知見や語学を活かせる仕事として、関心を寄せていただければと思います。\n\n------------------\n【2022年度第3回JICA国際協力JOBセミナー「安全管理の仕事に挑戦してみませんか？―経験者が語る多様なキャリアパス―」（オンライン開催）】\n\n開催日：2023年3月10日(金) 18:30&#12316;20:30 （個別質問会 20:00?20:30）＠オンライン開催のためご自宅から参加可能！\n開催形式：Zoomにて配信予定\n募集人数：最大490名（先着順）\n参加費：無料\n\n■プログラム\n・開会挨拶、プログラム説明：JICA人事部開発協力人材室\n・国際協力における安全管理の仕事：JICA安全管理部計画課　課長　大宮航時\n・キャリアパス紹介\n　JICA安全管理部安全対策第二課　生田卓也\n　JICAタジキスタン事務所　企画調査員　上原牧子\n　公益財団法人中東調査会　研究員　?橋雅英氏\n・質疑応答\n・上記プログラム終了後、20:00?個別質問会\n\nプログラムは予告なく変更する可能性もありますので、ご了承ください。\n\nお申し込みはこちらから\<a href="nhttps://partner.jica.go.jp/TrainingSeminarDetail?id=a0S2t00000KkW0DEAV\n\n※申込締切：3月7日（火）\n※PARTNERに国際協力人材登録、もしくは簡易登録していただいている方であればどなたでもご参加いただけます。\n------------------\n国際協力に関心があり、キャリアパスを検討中の社会人の方、地域の知見や語学スキルをお持ちの方、\n国際協力に関心があり、安全保障、インテリジェンスといった分野にも興味がある大学・大学院生など、\n多くの皆様のご参加をお待ちしております！" target="_self">nhttps://partner.jica.go.jp/TrainingSeminarDetail?id=a0S2t00000KkW0DEAV\n\n※申込締切：3月7日（火）\n※PARTNERに国際協力人材登録、もしくは簡易登録していただいている方であればどなたでもご参加いただけます。\n------------------\n国際協力に関心があり、キャリアパスを検討中の社会人の方、地域の知見や語学スキルをお持ちの方、\n国際協力に関心があり、安全保障、インテリジェンスといった分野にも興味がある大学・大学院生など、\n多くの皆様のご参加をお待ちしております！</a>
SUMMARY:JICA国際協力JOBセミナー「安全管理の仕事に挑戦してみませんか？―経験者が語る多様なキャリアパス―」（オンライン開催）
PRIORITY:0
CLASS:PUBLIC
END:VEVENT
END:VCALENDAR
