BEGIN:VCALENDAR
CALSCALE:GREGORIAN
X-WR-TIMEZONE;VALUE=TEXT:GMT
PRODID:PEAK Corporation - piCal -
X-WR-CALNAME;VALUE=TEXT:【プラン・ラウンジ2月】女性性器切除（FGM）から女の子を守るために
VERSION:2.0
METHOD:PUBLISH
BEGIN:VTIMEZONE
TZID:GMT
BEGIN:STANDARD
DTSTART:19390101T000000
TZOFFSETFROM:+0000
TZOFFSETTO:+0000
TZNAME:GMT
END:STANDARD
END:VTIMEZONE
BEGIN:VEVENT
DTSTART:20220219T020000Z
DTEND:20220219T030000Z
LOCATION:
TRANSP:OPAQUE
SEQUENCE:0
UID:pical060-e3a236f72d8e7837675cfe090542b758
DTSTAMP:20220201T042237Z
CATEGORIES:
DESCRIPTION:2月の「プラン・ラウンジ」では、エチオピアとスーダンで実施している、女性性器切除（Female Genital Mutilation、以下FGM）の根絶にむけたプランの取り組みをご紹介します。\n\n\n■女の子の心身に悪影響を及ぼす有害な慣習\n\nFGMは、アフリカと中東地域の約30カ国で、約2000年前から続いていると言われている慣習です。不衛生な環境で麻酔なしで施術が行われることも多く、命を落とす女の子もいます。死に至らずとも、感染症や出産への悪影響を引き起こし、強い恐怖が心の傷として残る場合もあります。\n15?49歳の女性のうち、エチオピアでは65％、スーダンでは87％が施術を受けているという統計があります。FGMを禁ずる国際条約を批准し、法律で禁止する国も多いなか、法の執行が不十分であるため、今も水面下で広く続けられているのが実情です。\n\n■根絶にむけた取り組みを詳しく紹介\nプランは、2017年からエチオピアで、2020年からはスーダンでも、FGMを根絶し女の子たちを守るための活動に取り組んできました。FGMの被害を受けた女の子の心身のケアをするとともに、家族や地域住民、行政を対象とした啓発活動も行っています。2021年からはエチオピアでの活動範囲をさらに広げ、FGMの根絶を目指しています。\n\n当日は、FGMがもたらす弊害や、根絶にむけたプランの取り組みを詳しく紹介いたします。オンライン開催のため、全国の皆さまにご参加いただけます。多くのお申し込みをお待ちしています。\n\n・日時：2022年2月19日（土）11：00?12：00\n・場所：Zoom（ズーム）による配信\n・参加費：無料（通信にかかる費用はご負担ください）\n・申込み締め切り：2月17日（木）\n\n※参加費無料。要予約。\n※お申し込みいただいた方には、開催日前日の2月18日(金)にZoomのURLをご案内いたします。\n\n★お申し込み方法\n以下のフォームより必要事項を入力し、お申し込みください。\<a href="nhttps://www.plan-international.jp/form/event/\n\n※イベント紹介ページ\nhttps://www.plan-international.jp/news/event/20220131_31837/\n" target="_self">nhttps://www.plan-international.jp/form/event/\n\n※イベント紹介ページ\nhttps://www.plan-international.jp/news/event/20220131_31837/\n</a>
SUMMARY:【プラン・ラウンジ2月】女性性器切除（FGM）から女の子を守るために
PRIORITY:0
CLASS:PUBLIC
END:VEVENT
END:VCALENDAR
