BEGIN:VCALENDAR
CALSCALE:GREGORIAN
X-WR-TIMEZONE;VALUE=TEXT:GMT
PRODID:PEAK Corporation - piCal -
X-WR-CALNAME;VALUE=TEXT:「Global Education and Sustainable Development Program」 2018冬期 説明会のご案内
VERSION:2.0
METHOD:PUBLISH
BEGIN:VTIMEZONE
TZID:GMT
BEGIN:STANDARD
DTSTART:19390101T000000
TZOFFSETFROM:+0000
TZOFFSETTO:+0000
TZNAME:GMT
END:STANDARD
END:VTIMEZONE
BEGIN:VEVENT
DTSTART:20190110T100000Z
DTEND:20190110T120000Z
LOCATION:
TRANSP:OPAQUE
SEQUENCE:0
UID:pical060-86cdf646fc744a2d2537e106487f3779
DTSTAMP:20190107T073833Z
CATEGORIES:
DESCRIPTION:「Global Education and Sustainable Development Program」 2018冬期 説明会のご案内\n\n上記プログラムの講座内容を確認したい方、ご関心のある方は、説明会にご参加ください。前半では全体説明・講師紹介・講師による講座内容説明・Q&Aを、後半では個別相談を行い、最適なクラスをご案内いたします。\n\n対象は以下の3講座です。\n・English for Non Governmental Organizations:Vocabulary and Conversational Skills Development\n・Sustainable Development Issues &#8211; Winter Intensive Course\n・Professional Writing Skills: Project-Based Writing Skills\n\n本プログラムの受講をご希望される場合、説明会の受講は必須となります。\n\n日時： 	? 2019年1月10日（木曜日）19：00?20：45\n? 2019年1月15日（火曜日）19：00?20：45\n場所： 	津田塾大学 千駄ヶ谷キャンパス\n参加費： 	無料【＊事前予約必要（各30名程度）】\n予約締切： 	各開催日の３営業日前\n予約方法：<a href="http://tou.tsuda.ac.jp/news_new/2470/" target="_self">http://tou.tsuda.ac.jp/news_new/2470/</a>
SUMMARY:「Global Education and Sustainable Development Program」 2018冬期 説明会のご案内
PRIORITY:0
CLASS:PUBLIC
END:VEVENT
END:VCALENDAR
