BEGIN:VCALENDAR
CALSCALE:GREGORIAN
X-WR-TIMEZONE;VALUE=TEXT:GMT
PRODID:PEAK Corporation - piCal -
X-WR-CALNAME;VALUE=TEXT:【プラン・インターナショナル】「目で見て心で感じよう」（東京・市ヶ谷）高校生・大学生向け映画上映とワークショップ
VERSION:2.0
METHOD:PUBLISH
BEGIN:VTIMEZONE
TZID:GMT
BEGIN:STANDARD
DTSTART:19390101T000000
TZOFFSETFROM:+0000
TZOFFSETTO:+0000
TZNAME:GMT
END:STANDARD
END:VTIMEZONE
BEGIN:VEVENT
DTSTART:20170826T040000Z
DTEND:20170826T070000Z
LOCATION:
TRANSP:OPAQUE
SEQUENCE:0
UID:pical060-1217b77e0c7901610623eabf3304a176
DTSTAMP:20170802T061115Z
CATEGORIES:
DESCRIPTION:プラン・インターナショナルの学生グループ「G-SChooL※」が、2017年8月26日（土）に都内において、高校生・大学生を対象にした「Girl Rising -私が決める、私の未来-」の上映とワークショップを開催します。\n\n9カ国9人の女の子が登場し、早すぎる結婚や、貧困、カムラリ家事使用人など女子教育を阻むさまざまな障壁と、彼女たちの持つ可能性を描いた「Girl Rising　-私が決める、私の未来-」を上映します。上映前後に、途上国の問題、女の子の直面する問題をより身近に感じていただけるようにディスカッションをメインにしたワークショップを用意しています。\n\n映画を目で見て、心で感じ、ワークショップを通して私たちにできることを一緒に考えてみませんか？\n皆さまのご参加を心よりお待ちしています！\n\n※G-SChooL\n国際協力や途上国支援について学び、プラン・インターナショナルの活動の理解の輪を広げる活動をしている学生グループです。2010年5月に発足し、同年代向けのイベントやワークショップを開催しています。\n\n【イベント名】\n「目で見て心で感じよう」 \n\n【日時】\n　2017年8月26日（土）13:00-16:00（12:30開場） \n\n【会場】\n　JICA地球ひろば　市ヶ谷　2F大会議室\n  東京都新宿区市谷本村町10-5（JICA市ヶ谷ビル内）\n  <a href="https://www.jica.go.jp/hiroba/about/map/index.html\n\n【内容】\n『Girl" target="_self">https://www.jica.go.jp/hiroba/about/map/index.html\n\n【内容】\n『Girl</a> Rising -私が決める、私の未来-』の鑑賞とディスカッションをメインにしたワークショップ \n\n【対象】\n　高校生・大学生 \n\n【定員】\n　30名（先着順・参加費無料） \n\n【お申し込み】\n　こちらのフォームからお申し込みください。 \<a href="nhttps://docs.google.com/forms/d/e/1FAIpQLSeM9QB7z57BCY28o7Sf6TYJYUV3TA2onsAFml6nGle1Iuf-sA/viewform\n\n【お問い合わせ】\n" target="_self">nhttps://docs.google.com/forms/d/e/1FAIpQLSeM9QB7z57BCY28o7Sf6TYJYUV3TA2onsAFml6nGle1Iuf-sA/viewform\n\n【お問い合わせ】\n</a> E-mail : <a href="mailto:gschool@plan-international.jp">gschool@plan-international.jp</a>  \n\n
SUMMARY:【プラン・インターナショナル】「目で見て心で感じよう」（東京・市ヶ谷）高校生・大学生向け映画上映とワークショップ
PRIORITY:0
CLASS:PUBLIC
END:VEVENT
END:VCALENDAR
