BEGIN:VCALENDAR
CALSCALE:GREGORIAN
X-WR-TIMEZONE;VALUE=TEXT:GMT
PRODID:PEAK Corporation - piCal -
X-WR-CALNAME;VALUE=TEXT:【GNHツアー/タイ・ブータン】２０１４・秋ブータンＧＮＨツアー！?世界一美しい村・イビサ村へ
VERSION:2.0
METHOD:PUBLISH
BEGIN:VTIMEZONE
TZID:GMT
BEGIN:STANDARD
DTSTART:19390101T000000
TZOFFSETFROM:+0000
TZOFFSETTO:+0000
TZNAME:GMT
END:STANDARD
END:VTIMEZONE
BEGIN:VEVENT
DTSTART:20140701T000000Z
DTEND:20140916T080000Z
LOCATION:
TRANSP:OPAQUE
SEQUENCE:1
UID:pical060-5dc2a8ee7b7ff93b5d844e4125844893
DTSTAMP:20140701T082150Z
CATEGORIES:
DESCRIPTION:＜＜＜＜＜＜＜締め切り間近！７月４日〆切＞＞＞＞＞＞＞＞\nお問い合わせ・お申込はお早めに！\n\<a href="nhttp://www.sloth.gr.jp/events/bhutangnhtour2014autumn/\n\n本当の「豊かさ」「幸せ」って何だろう？" target="_self">nhttp://www.sloth.gr.jp/events/bhutangnhtour2014autumn/\n\n本当の「豊かさ」「幸せ」って何だろう？</a> HappinessのＨを豊かさのモノサシに掲げ、\n「懐かしい未来」を先取りしている国、ブータンにそのヒントを探しに出かけませんか？\nスロームーブメントを提唱・実践する環境文化ＮＧＯ・ナマケモノ倶楽部とブータン・エンシェント・ツアーズ＆トレック代表のペマ・ギャルポさんがプロデュースするＧＮＨツアー。ブータン時間に身を委ね、現地の人、自然、地域の文化に学ぶエコロジーでスピリチュアルな旅。まるごと（ホリスティック）な価値観を育む旅へ！\n\n★過去のＧＮＨツアーの様子は、こちらからご覧いただけます。\<a href="nhttp://gnh.sblo.jp/\n\n＜＜２０１４・秋ブータンＧＮＨスタディーツアー＞＞\n\n◆日程：2014年９月９日（火）?９月16日（火）（６泊８日）\n【日程詳細はこちら】\nhttp://www.sloth.gr.jp/events/bhutangnhtour_201409/\n*他空港発着ご希望の方はご連絡ください。\n\n◆旅行代金：一般３７万円、学生３２万円\n\n*成田空港税2" target="_self">nhttp://gnh.sblo.jp/\n\n＜＜２０１４・秋ブータンＧＮＨスタディーツアー＞＞\n\n◆日程：2014年９月９日（火）?９月16日（火）（６泊８日）\n【日程詳細はこちら】\nhttp://www.sloth.gr.jp/events/bhutangnhtour_201409/\n*他空港発着ご希望の方はご連絡ください。\n\n◆旅行代金：一般３７万円、学生３２万円\n\n*成田空港税2</a>,610円、タイ空港税約2,270円、航空保険＆燃油料約19,620円（5/1時点）は別途徴収。\n*ブータンの規定により学生料金の適用は25歳までとなっています。\n*利用予定航空会社：タイ航空、ドゥルック・エアー航空\n*利用予定ホテル：グランド・インカムホテル（タイ）、Hotel Phuntshopelri（ティンプー）、Riverside Hotel（プナカ）、Hotel Olathang（パロ）または同等クラスのホテル、民泊\n\n＜募集型企画旅行条件書（要約） ＞\<a href="nhttp://www.sloth.gr.jp/events/condition/\n\n◆最少催行人数：９名\n（添乗員は同行しませんが、ナマケモノ倶楽部メンバーがツアーリーダーとして同行します）\n\n◆申込締切：２０１４年７月４日（金）\n\n◆呼びかけ：ナマケモノ倶楽部　\n\n◆お申込先：" target="_self">nhttp://www.sloth.gr.jp/events/condition/\n\n◆最少催行人数：９名\n（添乗員は同行しませんが、ナマケモノ倶楽部メンバーがツアーリーダーとして同行します）\n\n◆申込締切：２０１４年７月４日（金）\n\n◆呼びかけ：ナマケモノ倶楽部　\n\n◆お申込先：</a>(株)マイチケット\n　兵庫県知事登録旅行代理店業第142号（旅行取扱管理者　山田和生）\n　以下のページを印刷し、必要事項をご記入の上、ファックスまたは郵送にてお送り下さい。\n\n　＜２０１４・秋ブータンＧＮＨツアー参加申込書＞\<a href="nhttp://www.sloth.gr.jp/events/bhutanapplication_201409/\n\n◆旅行企画・実施：エアーワールド株式会社：観光庁長官登録旅行業第961号　日本旅行業協会（JATA）会員" target="_self">nhttp://www.sloth.gr.jp/events/bhutanapplication_201409/\n\n◆旅行企画・実施：エアーワールド株式会社：観光庁長官登録旅行業第961号　日本旅行業協会（JATA）会員</a>
SUMMARY:【GNHツアー/タイ・ブータン】２０１４・秋ブータンＧＮＨツアー！?世界一美しい村・イビサ村へ
PRIORITY:0
CLASS:PUBLIC
END:VEVENT
END:VCALENDAR
