BEGIN:VCALENDAR
CALSCALE:GREGORIAN
X-WR-TIMEZONE;VALUE=TEXT:GMT
PRODID:PEAK Corporation - piCal -
X-WR-CALNAME;VALUE=TEXT:トークイベント「外国籍女性の支援の現場―人身売買やDVを乗り越えて」
VERSION:2.0
METHOD:PUBLISH
BEGIN:VTIMEZONE
TZID:GMT
BEGIN:STANDARD
DTSTART:19390101T000000
TZOFFSETFROM:+0000
TZOFFSETTO:+0000
TZNAME:GMT
END:STANDARD
END:VTIMEZONE
BEGIN:VEVENT
DTSTART:20140601T060000Z
DTEND:20140601T073000Z
LOCATION:
TRANSP:OPAQUE
SEQUENCE:1
UID:pical060-c81460ed4341bfbb1c727d2339e9c41e
DTSTAMP:20140427T222043Z
CATEGORIES:
DESCRIPTION:新しい年度も始まり、みなさまそれぞれお忙しい季節と思います。てのひらでは6/1（日）の年次総会と同日開催するトークイベントへ向けて準備を進めております。トークイベントの後には、日頃ご支援・ご協力頂いているみなさまとの交流の場ももうける予定です。\n\nこのトークイベントではセカンドハーベスト・ジャパン（略称2HJ）で外国籍母子の支援を担当としていらっしゃる杉山祥子（すぎやまあきこ）さんをお招きします。2HJ(URL:<a href="http://2hj.org/" target="_self">http://2hj.org/</a>)では、さまざまな理由で廃棄される運命にある、まだ食べられる食品を引き取り、児童養護施設の子どもたちやDV被害者のシェルター、路上生活を強いられる方々などの元へ届ける活動をされています。杉山さんは現職の前に、DVや人身売買の被害を経験した女性へ向けた都内のシェルター「女性の家HELP」\n（URL:<a href="http://kyofukai.jp/aboutus/inst/help）\nに勤務なさっていました。そうしたご経験も踏まえ、外国籍女性の支援の現場に長年携わってきた杉山さんから、現場の抱える課題や、ご自身の想いを語って頂きます！\n\nまた、このトークイベントの前に、2014年度のてのひらの年次総会を開催します。2013年度の活動の振り返り、そして、2014年度の事業計画について話し合いを行います。会員以外の方もオブザーバーという形になりますが、一般の方のご参加も大歓迎です。てのひらの活動について方針を検討する場ですので、日頃ご支援頂いてみるみなさまとともに、私どもの活動をお伝えさせて頂く重要な機会だと思っています。こちらの会へもてのひらの活動に関心をお持ちの方はお気軽にご参加ください。\n\nみなさまのご参加を心より、お待ちしております。\nご質問などございましたらお気軽にメール等でお問い合わせください。\n\n■日時：2014年6月1日（日）15：00―16：30\n（総会は同日14：00ー14：45）" target="_self">http://kyofukai.jp/aboutus/inst/help）\nに勤務なさっていました。そうしたご経験も踏まえ、外国籍女性の支援の現場に長年携わってきた杉山さんから、現場の抱える課題や、ご自身の想いを語って頂きます！\n\nまた、このトークイベントの前に、2014年度のてのひらの年次総会を開催します。2013年度の活動の振り返り、そして、2014年度の事業計画について話し合いを行います。会員以外の方もオブザーバーという形になりますが、一般の方のご参加も大歓迎です。てのひらの活動について方針を検討する場ですので、日頃ご支援頂いてみるみなさまとともに、私どもの活動をお伝えさせて頂く重要な機会だと思っています。こちらの会へもてのひらの活動に関心をお持ちの方はお気軽にご参加ください。\n\nみなさまのご参加を心より、お待ちしております。\nご質問などございましたらお気軽にメール等でお問い合わせください。\n\n■日時：2014年6月1日（日）15：00―16：30\n（総会は同日14：00ー14：45）</a> \n\n■会場：東京ウイメンズプラザ 2階　第一会議室B \n\n■会場の最寄り駅：東京メトロ千代田線・銀座線・半蔵門線　表参道駅B2出口より徒歩7分 \n\n■最寄り駅からの道のり：<a href="http://www.pbls.or.jp/event/map_tokyo-womens-plaza.html" target="_self">http://www.pbls.or.jp/event/map_tokyo-womens-plaza.html</a> \n\n■定員：20名 \n\n■参加費：500円（年次総会のみの参加は無料） \n\n■申込期間：開催前日（5月31日）まで随時受付。先着申込み順。 \n\n■申込方法：★ご参加のお申し込みは以下のフォームからお願いいたします。\<a href="nhttps://ssl.form-mailer.jp/fms/37fe2108293015\n※総会については、当法人の正会員の方のみ議決権がありますが、一般の方もオブザーバーとしてご参加歓迎いたします。\n\n■お問い合わせ先\n特定非営利活動法人てのひら・人身売買に立ち向かう会\nE-mail:info@tenohira-trafficking.org" target="_self">nhttps://ssl.form-mailer.jp/fms/37fe2108293015\n※総会については、当法人の正会員の方のみ議決権がありますが、一般の方もオブザーバーとしてご参加歓迎いたします。\n\n■お問い合わせ先\n特定非営利活動法人てのひら・人身売買に立ち向かう会\nE-mail:info@tenohira-trafficking.org</a> 
SUMMARY:トークイベント「外国籍女性の支援の現場―人身売買やDVを乗り越えて」
PRIORITY:0
CLASS:PUBLIC
END:VEVENT
END:VCALENDAR
