BEGIN:VCALENDAR
CALSCALE:GREGORIAN
X-WR-TIMEZONE;VALUE=TEXT:GMT
PRODID:PEAK Corporation - piCal -
X-WR-CALNAME;VALUE=TEXT:スペシャルトークイベント「『3.11』と『エイズ孤児』が交わるところ。」
VERSION:2.0
METHOD:PUBLISH
BEGIN:VTIMEZONE
TZID:GMT
BEGIN:STANDARD
DTSTART:19390101T000000
TZOFFSETFROM:+0000
TZOFFSETTO:+0000
TZNAME:GMT
END:STANDARD
END:VTIMEZONE
BEGIN:VEVENT
DTSTART:20120506T080000Z
DTEND:20120506T100000Z
LOCATION:
TRANSP:OPAQUE
SEQUENCE:0
UID:pical060-baf81e760de8198865bd2134c38b4325
DTSTAMP:20120412T060357Z
CATEGORIES:
DESCRIPTION: ━━━━━━━━━━━━━━━━━━━━━━━━━\n      2012年5月6日 17:00?19:00　@原宿\n\n　　　　??エイズ孤児支援ＮＧＯ・ＰＬＡＳ??\n　　　　　世界エイズ孤児デーキャンペーン\n\n　　　　　　　スペシャルトークイベント \n     「『3.11』と『エイズ孤児』が交わるところ。」\n   <a href="http://www.plas-aids.org/blog/2012/04/03/7199\n" target="_self">http://www.plas-aids.org/blog/2012/04/03/7199\n</a> ━━━━━━━━━━━━━━━━━━━━━━━━━ \n\n昨年、私たちが経験した「3.11」とアフリカの「エイズ孤児」。\n一見、とてつもなく関わりが薄いように感じる二つの事柄。\nしかし、その根源にあるものは同じだと私たちは気付きました。\n\n震災を経験した私たちも、親をエイズで失い「ただいま」と言える\n居場所を失ったエイズ孤児たちも、「絆」や「コミュニティ」が\n生きていく支えになるということ。\n\n今日、「ただいま」と言えることが、明日の支えになる。\nそれは日本に暮らす私たちも、アフリカのエイズ孤児も同じなのです。\n\n震災復興に関わり、ウガンダやカンボジアでのエイズ孤児取材も\n行ってきた、フォトジャーナリストの安田菜津紀さんと、\nダイアログインザダーク理事の志村季世恵さんによるクロストークを\n通して、「コミュニティ」というキーワードのもと、\n「3.11」と「エイズ孤児」についてお伝えして、感じていただける\nイベントです。\n\nさらに、トーク後にはゲストを交えた交流会を開催します。\nお気軽にご参加ください！\n\n＞＞イベント詳細はこちら　<a href="http://www.plas-aids.org/blog/2012/04/03/7199\n\n●日時" target="_self">http://www.plas-aids.org/blog/2012/04/03/7199\n\n●日時</a> \n2012年5月6日（日）17:00?19:00（開場 16:30） \n\n●内容 \n・クロストーク \n「『3.11』と『エイズ孤児』の交わるところ。」 \n・フリートーク（交流会） \n\n●ゲスト \n ・安田菜津紀さん （フォトジャーナリスト） \n ・志村季世恵さん （ダイアログインザダーク理事） \n ・武村貴世子さん （ラジオＤＪ） \n\n●場所 \n  b6 JINGUMAE STUDIO\n 〒150-0001 東京都渋谷区神宮前6-28-6 b6 JINGUMAE 3F\n（地下鉄千代田線、副都心線「明治神宮前駅」7番出口より徒歩1分、\n JR山手線「原宿駅」表参道口より徒歩7分）\n＞＞地図・アクセスはこちら\<a href="nhttp://www.b6studio.com/access.html" target="_self">nhttp://www.b6studio.com/access.html</a> \n\n●定員 \n　120名 \n　＊お早めにお申し込みください \n\n●参加費 \n ￥2,000（1ドリンク付き）\n【Facebook割引】\n ★☆★Facebookイベントページで「参加予定」をクリックし、参加表明をした方は\n 特別価格￥1,500（1ドリンク付き）でご案内★☆★\n ＞＞Facebookのイベントページはこちらから\n <a href="http://www.facebook.com/events/417368304943525/\n" target="_self">http://www.facebook.com/events/417368304943525/\n</a> 当日「Facebookイベントページで参加表明しました！」と受付で一言添えてください！\n 特別価格でご入場いただけます！\n\n●対象者 \n ・途上国や子ども支援に関心がある方\n ・国際協力分野に関心のある方\n ・アフリカ、ボランティアに興味のある方\n ・エイズ孤児、エイズ/HIVに関心をお持ちの方\n ・3.11から何かもやもやしている方\n ・「絆」や「繋がり」「コミュニティ」に関心のある方\n\n●申し込み・イベント詳細\n <a href="http://www.plas-aids.org/blog/2012/04/03/7199\n" target="_self">http://www.plas-aids.org/blog/2012/04/03/7199\n</a> たくさんのご参加をお待ちしております！\n\n●お問い合わせ\n エイズ孤児支援NGO・PLAS (プラス)\n TEL/FAX： 050-3627-0271\n E-mail：<a href="mailto:info@plas-aids.org">info@plas-aids.org</a> \n\n\n●ゲスト紹介 \n ・志村季世恵さん\nダイアログインザダーク理事。\n1990年「癒しの森」を故志村紘章氏と共に立ち上げカウンセリングを担当。\nクライアントの数は延べ４万人を超える。\n癒しの森閉院後、フリーでカウンセリングや、末期ガンを患う人へのターミナル・ケアを行う。\nダイアログインザダークでは五感の再生をテーマに活動。\nワークショップ、講演、企業研修、カウンセリング講座などを開催。\n東日本大震災後、被災した福島のこども達のサポートに尽力している。\n主な著書は『いのちのバトン』（講談社文庫）\n『大人のための幸せレッスン』（集英社新書）\n『ママ・マインド』（岩崎書店）等。\n\n・安田菜津紀さん\nstudio AFTERMODE 所属。フォトジャーナリスト。\n2003年8月、「国境なき子どもたち」の友情のレポーターとして\nカンボジアで貧困にさらされる子どもたちを取材。\n2006年、写真と出会ったことを機に、カンボジアを中心に各地の取材を始める。\n現在、東南アジアの貧困問題や、中東の難民問題などを中心に取材を進める。\n2008年7月、活動が日本青年会議所主催、青年版国民栄誉賞「人間力大賞」会頭特別賞を受賞。\n2009年、日本ドキュメンタリー写真ユースコンテスト大賞受賞。上智大学卒。\n\n・武村貴世子さん\nフリーラジオパーソナリティ。\n国連UNHCR協会にて協力委員を務める。\nナレーションやライターとしても幅広く活動。\n国連難民高等弁務官事務所（UNHCR）を通しての難民支援を中心に、\n東日本大震災被災地支援、エイズ孤児支援などの\n社会貢献活動、国際協力にも積極的に取り組んでいる。\n　\n●プラスとは\nプラスは、2005年12月に日本初のエイズ孤児に特化したNGOとして設立されました。\nエイズ孤児の現状改善を目指して、ウガンダ共和国、ケニア共和国で現地団体とともに、\n学校建設、母子感染予防事業やエイズ啓発事業を行っています。\<a href="nhttp://www.plas-aids.org/\n\n●世界エイズ孤児デーについて\n2002年、5月7日が世界エイズ孤児デーとして、国際的に制定されました。\n現在世界には1660万人のエイズ孤児がいると言われています。この数は東京都の\n人口よりも多く、今も増え続けています。エイズ孤児は、いわれのない差別を\n受け、引き取り先がなかったり、学校に行かせてもらえなかったりするのです。\n日本で展開される世界エイズ孤児デーは今年で6年目。\nエイズ孤児について知らせ、行動を促すためのキャンペーンです。\nhttp://www.plas-aids.org/waod/2012/\n" target="_self">nhttp://www.plas-aids.org/\n\n●世界エイズ孤児デーについて\n2002年、5月7日が世界エイズ孤児デーとして、国際的に制定されました。\n現在世界には1660万人のエイズ孤児がいると言われています。この数は東京都の\n人口よりも多く、今も増え続けています。エイズ孤児は、いわれのない差別を\n受け、引き取り先がなかったり、学校に行かせてもらえなかったりするのです。\n日本で展開される世界エイズ孤児デーは今年で6年目。\nエイズ孤児について知らせ、行動を促すためのキャンペーンです。\nhttp://www.plas-aids.org/waod/2012/\n</a>
SUMMARY:スペシャルトークイベント「『3.11』と『エイズ孤児』が交わるところ。」
PRIORITY:0
CLASS:PUBLIC
END:VEVENT
END:VCALENDAR
