BEGIN:VCALENDAR
CALSCALE:GREGORIAN
X-WR-TIMEZONE;VALUE=TEXT:GMT
PRODID:PEAK Corporation - piCal -
X-WR-CALNAME;VALUE=TEXT:エコライフフェア　環境対策ボランティア募集
VERSION:2.0
METHOD:PUBLISH
BEGIN:VTIMEZONE
TZID:GMT
BEGIN:STANDARD
DTSTART:19390101T000000
TZOFFSETFROM:+0000
TZOFFSETTO:+0000
TZNAME:GMT
END:STANDARD
END:VTIMEZONE
BEGIN:VEVENT
DTSTART:20110520T000000Z
DTEND:20110520T080000Z
LOCATION:
TRANSP:OPAQUE
SEQUENCE:0
UID:pical060-74dfe903060fa27d43a0d7e923a735ab
DTSTAMP:20110520T060608Z
CATEGORIES:
DESCRIPTION:☆★☆★☆★☆★☆★☆★☆★☆★☆★☆★☆★☆★☆★☆★☆★\nA　SEED JAPAN・ごみゼロナビゲーション\nエコライフ・フェア 環境対策ボランティア 募集のお知らせ\n☆★☆★☆★☆★☆★☆★☆★☆★☆★☆★☆★☆★☆★☆★☆★\n\n現在ごみゼロナビゲーションでは，エコライフ・フェア（公式webサイト：<a href="http://www.ecolifefair.go.jp/）の環境対策ボランティアを募集しています。エコライフ・フェアでは子供から大人まで，楽しみながらライフスタイルを見つめなおすきっかけとなる，さまざまなブースが出展しています。6月5日は環境の日です。環境の事を考えながら，楽しく活動してみませんか？\n\n▽日程" target="_self">http://www.ecolifefair.go.jp/）の環境対策ボランティアを募集しています。エコライフ・フェアでは子供から大人まで，楽しみながらライフスタイルを見つめなおすきっかけとなる，さまざまなブースが出展しています。6月5日は環境の日です。環境の事を考えながら，楽しく活動してみませんか？\n\n▽日程</a> ※1日のみの参加も可\n6月4日（土）10:00-18:00\n6月5日（日）9:00-18:00\n\n▽場所\n代々木公園 ケヤキ並木・イベント広場\n（JR・原宿駅，地下鉄千代田線/副都心線・明治神宮前駅より徒歩3分）\n\n▽活動内容\n・Dish Reuse Systemの実施・運営（リユース食器の洗浄/消毒，回収呼びかけ等）\n\n▽ボランティア説明会\n※いずれかの日程に必ずご参加下さい（説明会免除制度もございます。詳細はwebサイトをご覧ください）\n1）5月30日（月）19:00-21:00\n2）5月31日（火）19:00-21:00\n場所：国立オリンピック記念青少年総合センター（渋谷区代々木神園町3番1号）\nアクセス：小田急線・参宮橋駅より徒歩7分，千代田線・代々木公園駅より徒歩10分\n\n▽詳細・申込\<a href="nhttp://www.gomizero.org/vo_recruit/ecolifefair/\n\n皆さんのご応募をお待ちしております\n\n☆★☆★☆★☆★☆★☆★☆★☆★☆★☆★☆★☆★☆★☆★☆★\n【A" target="_self">nhttp://www.gomizero.org/vo_recruit/ecolifefair/\n\n皆さんのご応募をお待ちしております\n\n☆★☆★☆★☆★☆★☆★☆★☆★☆★☆★☆★☆★☆★☆★☆★\n【A</a>  SEED JAPANオフィシャルwebサイト】\<a href="nhttp://www.aseed.org/\n【ごみゼロナビゲーションオフィシャルwebサイト】\nhttp://www.gomizero.org/\n\n【募集内容についてのお問合せ】\n国際青年環境NGO" target="_self">nhttp://www.aseed.org/\n【ごみゼロナビゲーションオフィシャルwebサイト】\nhttp://www.gomizero.org/\n\n【募集内容についてのお問合せ】\n国際青年環境NGO</a>  A SEED JAPAN（担当：善木，岸田）\n〒160-0022　東京都新宿区新宿5-4-23\n電話：03-5366-7584,  E-mail：<a href="mailto:info@gomizero.org\n\n【書き込みに関するご意見・ご要望/転載を希望される場合のお問合わせ】\nasj-vo@gomizero.org\n☆★☆★☆★☆★☆★☆★☆★☆★☆★☆★☆★☆★☆★☆★☆★\n">info@gomizero.org\n\n【書き込みに関するご意見・ご要望/転載を希望される場合のお問合わせ】\nasj-vo@gomizero.org\n☆★☆★☆★☆★☆★☆★☆★☆★☆★☆★☆★☆★☆★☆★☆★\n</a>
SUMMARY:エコライフフェア　環境対策ボランティア募集
PRIORITY:0
CLASS:PUBLIC
END:VEVENT
END:VCALENDAR
