BEGIN:VCALENDAR
CALSCALE:GREGORIAN
X-WR-TIMEZONE;VALUE=TEXT:GMT
PRODID:PEAK Corporation - piCal -
X-WR-CALNAME;VALUE=TEXT:地球市民講座「ヒマラヤの民族多様性と民族問題」
VERSION:2.0
METHOD:PUBLISH
BEGIN:VTIMEZONE
TZID:GMT
BEGIN:STANDARD
DTSTART:19390101T000000
TZOFFSETFROM:+0000
TZOFFSETTO:+0000
TZNAME:GMT
END:STANDARD
END:VTIMEZONE
BEGIN:VEVENT
DTSTART:20091205T050000Z
DTEND:20091205T080000Z
LOCATION:
TRANSP:OPAQUE
SEQUENCE:0
UID:pical060-7ffcff40834dcd5f9fa392a782390ea6
DTSTAMP:20091023T032545Z
CATEGORIES:
DESCRIPTION:特定非営利活動法人ヒマラヤ保全協会が主催する地球市民講座。今回は「ヒマラヤの民族多様性と民族問題」をとりあげます。\n\nヒマラヤで国際協力をおこなうためには、そのおどろくべき民族多様性と、そのためにおこっている民族問題について理解しておかなければなりません。そこで、ヒマラヤ保全協会がつづけてきた国際協力の実践を通してみえてきた、ヒマラヤの民族多様性と民族問題について概観し、それらによってひきおこされる国際協力における障害とメリットについて議論をふかめます。当日は、「ヒマラヤの民族多様性と民族問題」の一般論をくりかえすのではなく、国際協力実践の現場におけるリアルな葛藤をあきらかにしていきます。\n\n▼詳しくはホームページをご覧ください。\<a href="nhttp://www.ihc-japan.org/event/091205.html" target="_self">nhttp://www.ihc-japan.org/event/091205.html</a>
SUMMARY:地球市民講座「ヒマラヤの民族多様性と民族問題」
PRIORITY:0
CLASS:PUBLIC
END:VEVENT
END:VCALENDAR
