BEGIN:VCALENDAR
CALSCALE:GREGORIAN
X-WR-TIMEZONE;VALUE=TEXT:GMT
PRODID:PEAK Corporation - piCal -
X-WR-CALNAME;VALUE=TEXT:「世界中の子どもに教育を」キャンペーン2009：参加者募集　テーマは読み書き（識字）！
VERSION:2.0
METHOD:PUBLISH
BEGIN:VTIMEZONE
TZID:GMT
BEGIN:STANDARD
DTSTART:19390101T000000
TZOFFSETFROM:+0000
TZOFFSETTO:+0000
TZNAME:GMT
END:STANDARD
END:VTIMEZONE
BEGIN:VEVENT
DTSTART:20090419T150000Z
DTEND:20090426T140000Z
LOCATION:
TRANSP:OPAQUE
SEQUENCE:0
UID:pical060-d7379ffd8292236e947aa9764c838b64
DTSTAMP:20090313T095618Z
CATEGORIES:
DESCRIPTION:教育協力NGOネットワーク（JNNE）（代表　片山信彦／所在地　東京都新宿区／URL <a href="http://jnne.org/　以下JNNE）は、全ての人が教育を受けられる世界を目指して、途上国の教育支援を日本に広める活動を行っています。\n\n2009年4月20日から26日まで、全国の学校を対象に「世界中の子どもに教育を」キャンペーン2009?世界の子どもたちと「読み書き」について考えよう！を行ないます。\n\nキャンペーンの目的は、世界の教育課題と解決へ向けた活動を子どもを含む多くの人々に伝え、自分たちにできることの可能性を考えてもらうこと。その方法として、JNNEが作成した教材を参加希望の小中学校に送り、約30分の授業を学校で行っていただきます。\n\nこのキャンペーンは、ユネスコ、ユニセフの後援のもと、2003年から毎年4月下旬に日本を含む世界中で同時に開催されてきました。昨年日本の参加は214校、25" target="_self">http://jnne.org/　以下JNNE）は、全ての人が教育を受けられる世界を目指して、途上国の教育支援を日本に広める活動を行っています。\n\n2009年4月20日から26日まで、全国の学校を対象に「世界中の子どもに教育を」キャンペーン2009?世界の子どもたちと「読み書き」について考えよう！を行ないます。\n\nキャンペーンの目的は、世界の教育課題と解決へ向けた活動を子どもを含む多くの人々に伝え、自分たちにできることの可能性を考えてもらうこと。その方法として、JNNEが作成した教材を参加希望の小中学校に送り、約30分の授業を学校で行っていただきます。\n\nこのキャンペーンは、ユネスコ、ユニセフの後援のもと、2003年から毎年4月下旬に日本を含む世界中で同時に開催されてきました。昨年日本の参加は214校、25</a>,838名。世界全体では880万人の子どもが参加しました。今年は世界の子どもたちがともに「読み書き」について考える一週間となります。\n\nタイトル：「世界の子どもに教育を」キャンペーン2009\n後援　　：文部科学省、外務省、国際協力機構(JICA）、開発教育 協会（DEAR）、ユネスコ・アジア文化センター（ACCU）\n日時　　：2009年4月20日（月）?26日（日）の間に教材を使って\n30分程度の授業を1回開催\n参加条件：申込みされた全国の小・中学校、専門学校、塾、ゼミなどのグループで可能です。\n参加費用：無料　無料教材送付。希望校へJNNE参加NGOの講師派遣（首都圏）。\n申込方法：指定の申込書にて事務局へFAX送付\n締め切り：2009年4月8日（水）\nお問合せ：世界中の子どもに教育をキャンペーン事務局　\n担当：伊藤（いとう）\n所在地　：　東京都新宿区大京町31　慈母会館3Ｆ\n　　　　　（社）シャンティ国際ボランティア会内　\n電話：03-5360-1245，FAX 03-5360-1220\n詳細URL：<a href="http://www.jnne.org/gce2009　\nメール：<a href="mailto:gaw2009@hotmail.co.jp\n\n">gaw2009@hotmail.co.jp\n\n</a>" target="_self">www.jnne.org/gce2009　\nメール：<a href="mailto:gaw2009@hotmail.co.jp\n\n">gaw2009@hotmail.co.jp\n\n</a></a>
SUMMARY:「世界中の子どもに教育を」キャンペーン2009：参加者募集　テーマは読み書き（識字）！
PRIORITY:0
CLASS:PUBLIC
END:VEVENT
END:VCALENDAR
